BEGIN:VCALENDAR
VERSION:2.0
PRODID:-//Eventin//Event Calendar//EN
CALSCALE:GREGORIAN
METHOD:PUBLISH
BEGIN:VEVENT
UID:e4aae1a7a8498c191074ca8101ef7015@nationalbourbonweek.com
SUMMARY:Big Vat Blending Class
DESCRIPTION:Join Potter Jane Distilling Company for a Big Vat Blending Clas
 s\, an exclusive hands-on experience led by owner Jane Bowie. Limited to ju
 st 12 participants\, this intimate session offers a behind-the-scenes look 
 at the art of whiskey blending. Your ticket includes a guided blending clas
 s\, light bites\, and a bottle of Potter Jane's new release\, Big Vat Liar.
  \nTickets for this event are $100 and capacity is limited to 12. You may 
 book via the More Info button to the right. Cheers!
LOCATION:Potter Jane Distilling Co.
DTSTAMP:20260424T140142Z
DTSTART:20260617T190000Z
DTEND:20260617T210000Z
END:VEVENT
END:VCALENDAR
