BEGIN:VCALENDAR
VERSION:2.0
PRODID:-//Eventin//Event Calendar//EN
CALSCALE:GREGORIAN
METHOD:PUBLISH
BEGIN:VEVENT
UID:12dab40edeb84aae377d4244d01962ac@nationalbourbonweek.com
SUMMARY:Finish Your Own Blueprint Series Batch 002 Experience
DESCRIPTION:Join the founders of Old SteelHouse Distillery at the historic 
 property in Deatsville for a unique two hour experience! You’ll begin wit
 h a tour of this incredibly historic distillery campus\, followed by a brie
 f class on wood finishing. Finally\, you’ll select from four unique wood 
 cubes to finish your very own Batch 002 and take home your 375 milliliter b
 ottle to let it finish to your desired taste profile.\nIf you wish to book\
 , please click the More Info button to the right. Cheers!
LOCATION:Old SteelHouse Distillery
DTSTAMP:20260424T140120Z
DTSTART:20260616T213000Z
DTEND:20260616T233000Z
END:VEVENT
END:VCALENDAR
