BEGIN:VCALENDAR
VERSION:2.0
PRODID:-//Eventin//Event Calendar//EN
CALSCALE:GREGORIAN
METHOD:PUBLISH
BEGIN:VEVENT
UID:fd427c494dc917c09399f8affd67e4d6@nationalbourbonweek.com
SUMMARY:Proofed by the Spring
DESCRIPTION:A bourbon experience shaped by intention\, guided by tradition\
 , and Kentucky's limestone water. Experienced at the source\, not just talk
 ed about. Led by Owner & Founder Wally Dant\, it begins not with the barre
 l\, but with the water. Through conversation and guided tasting\, you will 
 experience the process firsthand. You will explore how limestone springs\, 
 local grains and\, thoughtful proofing shape every glass at Log Still Disti
 llery.Tickets for this event are limited and may be booked by clicking the 
 More Info button to the right. Cheers! 
LOCATION:Log Still Distillery
DTSTAMP:20260424T140142Z
DTSTART:20260616T190000Z
DTEND:20260616T210000Z
END:VEVENT
END:VCALENDAR
