BEGIN:VCALENDAR
VERSION:2.0
PRODID:-//Eventin//Event Calendar//EN
CALSCALE:GREGORIAN
METHOD:PUBLISH
BEGIN:VEVENT
UID:49d852433a72b1fdd4b771cc1e264645@nationalbourbonweek.com
SUMMARY:Bill's Bourbon Soiree with Master Distiller Dr. Blake Layfield
DESCRIPTION:Join Maker's Mark for an intimate bourbon soirée hosted in the
  Visitor Center where heritage\, craftsmanship\, and celebration come toget
 her in perfect harmony. This exclusive gathering offers guests the rare opp
 ortunity to mix and mingle with Bill Jr.\, son of the founders\, as well as
  Master Distiller Dr. Blake Layfield\, whose expertise continues to shape t
 he legacy of Maker’s Mark.\nSavor a curated selection of heavy appetizers
  thoughtfully paired to complement the rich\, signature flavors of Maker’
 s Mark bourbon. Guests will also enjoy two complimentary cocktails\, each c
 rafted to highlight the distillery’s iconic character while adding a fest
 ive twist to the evening.\nWhether you’re a longtime bourbon enthusiast o
 r simply looking for a unique and spirited experience\, this soirée promis
 es warm conversation\, exceptional flavor\, and a true taste of traditional
  celebration of bourbon and the people who bring it to life.\nKnow Before Y
 ou Go:\n\nTickets are not sold onsite – please book online in advance.\nP
 lease check in at the Visitor Center. First building in front of the pathw
 ay from the Visitor Parking Lot.\nWe are in the Eastern Time Zone.\nThis e
 vent is 21+ only. ID's will be checked upon arrival.\nThis event will last
  1 hour and 30 minutes.\nMaker's Mark® is on the scenic route\, and some G
 PS systems may take you way off the beaten path - make sure to plan your dr
 ive ahead of time.\n\nTickets for this event are $75. Please click the More
  Info button to the right to grab your tickets. Cheers!
LOCATION:Maker's Mark Distillery
DTSTAMP:20260424T140228Z
DTSTART:20260617T210000Z
DTEND:20260617T223000Z
END:VEVENT
END:VCALENDAR
