BEGIN:VCALENDAR
VERSION:2.0
PRODID:-//Eventin//Event Calendar//EN
CALSCALE:GREGORIAN
METHOD:PUBLISH
BEGIN:VEVENT
UID:c733ed032d925a3ba7adfe1c5b3e25aa@nationalbourbonweek.com
SUMMARY:The Beam Backyard Luau
DESCRIPTION:This National Bourbon Week\, join the James B. Beam Distilling 
 Co. as they celebrate 8 Generations of Beam Family Distilling with a vibran
 t revival of an iconic tradition! Just as Booker Noe famously hosted his le
 gendary "Bourbon-Ques" in his own backyard\, now Beam invites you to the an
 nual "Backyard Luau"!\nExperience an unforgettable evening in Jim Beam’s 
 backyard\, complete with a delicious pig roast\, expertly crafted Beam-made
  bourbon cocktails\, and lively music.\nEvents Inclusions-3 Beam-Made Bourb
 on Cocktails-Luau Style Pig Roast with Multiple Food Stations-Live Music\nT
 ime: 6:00 pm - 9:00 pm ESTPrice: $150.00 per personMust be 21+Drink Smart®
 \nTickets for this event are $150. Please click the More Info button to the
  right to grab yours. Cheers!
LOCATION:Beam Family Home
DTSTAMP:20260424T140223Z
DTSTART:20260615T220000Z
DTEND:20260616T010000Z
END:VEVENT
END:VCALENDAR
