BEGIN:VCALENDAR
VERSION:2.0
PRODID:-//Eventin//Event Calendar//EN
CALSCALE:GREGORIAN
METHOD:PUBLISH
BEGIN:VEVENT
UID:9e4c974c060d2f1bc1b28c6dcb035f08@nationalbourbonweek.com
SUMMARY:Ying Yang Twins & Mike Jones\, Live at The Amp!
DESCRIPTION:The Ying Yang Twins and special guest Mike Jones will have The 
 Amp at Log Still rocking on Saturday evening\, June 20! Grab your tickets t
 o enjoy live music and Monk's Road pours and cocktails!\nTicket prices vary
  depending on where you choose to sit. To grab your seats please click the 
 More Info button to the right. Cheers!
LOCATION:The Amp at Log Still Distillery
DTSTAMP:20260424T183136Z
DTSTART:20260620T230000Z
DTEND:20260621T020000Z
END:VEVENT
END:VCALENDAR
