BEGIN:VCALENDAR
VERSION:2.0
PRODID:-//Eventin//Event Calendar//EN
CALSCALE:GREGORIAN
METHOD:PUBLISH
BEGIN:VEVENT
UID:f784619321948bb466e41b394a682954@nationalbourbonweek.com
SUMMARY:23rd Annual Bourbon City Street Concert
DESCRIPTION:Join us downtown on Bardstown Main Street for the 23rd annual B
 ourbon City Street Concert! Bring your chairs and enjoy a night full of liv
 e music\, food\, and fun!\nThis year we're bringing some new ideas to downt
 own throughout the entire day\, and we're excited to tell you about it. So\
 , stay tuned for future updates!
LOCATION:Downtown Bardstown
DTSTAMP:20260424T184913Z
DTSTART:20260620T220000Z
DTEND:20260621T030000Z
END:VEVENT
END:VCALENDAR
