BEGIN:VCALENDAR
VERSION:2.0
PRODID:-//Eventin//Event Calendar//EN
CALSCALE:GREGORIAN
METHOD:PUBLISH
BEGIN:VEVENT
UID:6d154a215f234592b0203bf954bb835e@nationalbourbonweek.com
SUMMARY:Big Vat Bar Crawl
DESCRIPTION:Join Potter Jane Distilling Company for a Big Vat Bar Crawl\, a
  spirited afternoon in Downtown Bardstown with distillery owners Jane Bowie
  and Denny Potter. The crawl begins at Evergreen Liquors with a neat pour o
 f their new release\, Big Vat Liar\, before heading to Scout & Scholar and 
 Mr. Tubs for Jane and Denny inspired cocktails. Expect great whiskey\, grea
 t company\, and a fun afternoon celebrating National Bourbon Week.\nPlease 
 note that this experience begins at Evergreen Liquors in downtown Bardstown
 . Tickets are $50 each and limited. To grab your spot\, please click More I
 nfo to the right. Cheers!
LOCATION:Downtown Bardstown
DTSTAMP:20260424T183049Z
DTSTART:20260620T190000Z
DTEND:20260620T210000Z
END:VEVENT
END:VCALENDAR
