BEGIN:VCALENDAR
VERSION:2.0
PRODID:-//Eventin//Event Calendar//EN
CALSCALE:GREGORIAN
METHOD:PUBLISH
BEGIN:VEVENT
UID:040c728a2f2038fe3fe9b3ae20d6e871@nationalbourbonweek.com
SUMMARY:Barrels & Biscuits with Master Distiller Stephen Beam
DESCRIPTION:Start your morning at Limestone Branch Distillery with Barrels 
 & Biscuits\, a relaxed bourbon brunch experience. Guests will be welcomed w
 ith a Bourbon Bacon Bloody Mary before enjoying a hearty meal while hearing
  the story of Limestone Branch from Steve Beam. After brunch\, enjoy a guid
 ed tasting led by Stephen Fante featuring several Yellowstone expressions\,
  along with an opportunity to explore the distillery\, meet the team\, and 
 have bottles signed. It’s the perfect blend of good food\, great bourbon\
 , and behind-the-scenes storytelling.\nTickets for this event are $50. Clic
 k More Info to the right to book. Cheers!
LOCATION:Limestone Branch Distillery
DTSTAMP:20260424T171857Z
DTSTART:20260620T133000Z
DTEND:20260620T160000Z
END:VEVENT
END:VCALENDAR
