BEGIN:VCALENDAR
VERSION:2.0
PRODID:-//Eventin//Event Calendar//EN
CALSCALE:GREGORIAN
METHOD:PUBLISH
BEGIN:VEVENT
UID:82d2ff4a9cd725c474f05392316022d9@nationalbourbonweek.com
SUMMARY:Big Vat Blending Class
DESCRIPTION:Join Potter Jane Distilling Company for a Big Vat Blending Clas
 s\, an exclusive hands-on experience led by owner Jane Bowie. Limited to ju
 st 12 participants\, this intimate session offers a behind-the-scenes look 
 at the art of whiskey blending. Your ticket includes a guided blending clas
 s\, light bites\, and a bottle of Potter Jane's new release\, Big Vat Liar.
  \nTHIS EVENT IS SOLD OUT.
LOCATION:Potter Jane Distilling Co.
DTSTAMP:20260424T140227Z
DTSTART:20260618T190000Z
DTEND:20260618T210000Z
END:VEVENT
END:VCALENDAR
