BEGIN:VCALENDAR
VERSION:2.0
PRODID:-//Eventin//Event Calendar//EN
CALSCALE:GREGORIAN
METHOD:PUBLISH
BEGIN:VEVENT
UID:86c2218ced806c460411a730a44b4d7f@nationalbourbonweek.com
SUMMARY:Front Yard BBQ with Master Distiller John Rempe
DESCRIPTION:Join your friends at Lux Row Distillers for a casual and fun fr
 ont yard barbeque. Dinner and an open bar will be included in the price of 
 tickets. Enjoy live music and an appearance by Master Distiller John Rempe 
 as we celebrate National Bourbon Week in the Bourbon Capital of the World.\
 nTickets for this event are $75. Click the More Info button to the right fo
 r yours. Cheers!
LOCATION:Lux Row Distillers
DTSTAMP:20260424T140320Z
DTSTART:20260617T210000Z
DTEND:20260618T000000Z
END:VEVENT
END:VCALENDAR
