BEGIN:VCALENDAR
VERSION:2.0
PRODID:-//Eventin//Event Calendar//EN
CALSCALE:GREGORIAN
METHOD:PUBLISH
BEGIN:VEVENT
UID:dba61100b4efa6d2f92388f158d1f9ab@nationalbourbonweek.com
SUMMARY:The Boone Family Reunion Distillery Festival
DESCRIPTION:In 1776\, Wattie Boone sparked what we now know as bourbon\, ri
 ght here in Bardstown Kentucky\, on the grounds of what is now Preservation
  Distillery & Farm. 250 years later\, we’re raising a glass to that legac
 y!\nJoin us on National Bourbon Day June 14th as we kick off National Bourb
 on Week with a lively\, festival-style celebration honoring the Boone famil
 y and America’s native spirit.\nSip unique expressions\, enjoy craft cock
 tails\, LIVE music\, BBQ bites\, and interactive experiences across the far
 m.\nComplete all (5) activations to gain exclusive access to a limited-edit
 ion release created just for the occasion! This event is not a guided tour\
 , and guests are encouraged to start their journey anytime between 11am-3pm
  while the farm will be active all day with live music\, cocktails\, and ta
 stings!  \nHosted by Proprietor Marci Palatella\, Master of Maturation Ky
 le Lloyd\, and Head Distiller JT Leasor—this is your chance to taste\, le
 arn\, explore Preservation like never before!  \nEvent Inclusions\n\nExcl
 usive Preservation product tasting with a souvenir glass\nCrafted Cocktail 
 in a souvenir glass\nBBQ Bites\nExclusive access to a National Bourbon Week
  Release!\nCustom made Preservation keepsake\nLIVE seminars hosted by Marci
  Palatella\, Kyle Lloyd\, and JT Leasor\n\nTickets for this event are $75 a
 nd can be booked via the More Info button to the right. Cheers! \nMust be 
 21 years of age to participate.
LOCATION:Preservation Distillery
DTSTAMP:20260424T140223Z
DTSTART:20260614T150000Z
DTEND:20260614T190000Z
END:VEVENT
END:VCALENDAR
