BEGIN:VCALENDAR
VERSION:2.0
PRODID:-//Eventin//Event Calendar//EN
CALSCALE:GREGORIAN
METHOD:PUBLISH
BEGIN:VEVENT
UID:ff0cb4b581fafe15d84cb9e86f4a6d06@nationalbourbonweek.com
SUMMARY:Elijah Craig National Bourbon Day Celebration
DESCRIPTION:Join the Heaven Hill Bourbon Experience team in Bardstown as we
  celebrate NationalBourbon Day with a full day dedicated to Elijah Craig—
 one of Kentucky’s most iconicbourbons.This open-house style event will fe
 ature a variety of Elijah Craig experiences throughoutthe day\, including t
 astings\, special food and cocktail offerings\, live music\, craftdemonstra
 tions\, and opportunities to explore the story and craftsmanship behind the
 brand. Guests can enjoy interactive stations highlighting the elements that
  shape greatwhiskey\, browse exclusive Elijah Craig merchandise\, and exper
 ience the Heaven HillBourbon Experience in a whole new way.Whether you’re
  a longtime Elijah Craig fan or simply looking for a great way to celebrate
 National Bourbon Day in the Bourbon Capital of the World\, this all-day cel
 ebration offerssomething for everyone.The event also kicks off a week of bo
 urbon celebrations across Bardstown\, making itthe perfect time to visit an
 d raise a glass to America’s native spirit.More details will be announced
  as the celebration approaches.\nThis event is free but tickets are require
 d. Please click the More Info button to the right to grab your tickets. Che
 ers!
LOCATION:Heaven Hill Bourbon Experience
DTSTAMP:20260424T140320Z
DTSTART:20260614T150000Z
DTEND:20260614T210000Z
END:VEVENT
END:VCALENDAR
